BEGIN:VCALENDAR
VERSION:2.0
PRODID:icalendar-ruby
CALSCALE:GREGORIAN
METHOD:PUBLISH
BEGIN:VEVENT
DTSTAMP:20260424T143006Z
UID:6-574597@randolphfirstreformed.com
DTSTART:20261004T140000Z
DTEND:20261004T151500Z
CLASS:PUBLIC
CREATED:20260424T092855
DESCRIPTION:
LAST-MODIFIED:20260424T092855
LOCATION:Randolph First Reformed Church
SUMMARY:Sunday Morning Worship
URL;VALUE=URI:https://www.randolphfirstreformed.com/events/sunday-morning-w
 orship/2026-10-04
ATTACH;FILENAME=IMG_0054.jpeg;FMTTYPE=image/jpeg:https://dq5pwpg1q8ru0.clou
 dfront.net/2023/09/14/12/35/18/415d6aa8-83c8-4df4-b25f-4d94aa557116/IMG_00
 54.jpeg
END:VEVENT
END:VCALENDAR
