BEGIN:VCALENDAR
VERSION:2.0
PRODID:icalendar-ruby
CALSCALE:GREGORIAN
METHOD:PUBLISH
BEGIN:VEVENT
DTSTAMP:20260424T193911Z
UID:34-575136@randolphfirstreformed.com
DTSTART:20261013T233000Z
DTEND:20261014T003000Z
CLASS:PUBLIC
CREATED:20260424T121705
DESCRIPTION:
LAST-MODIFIED:20260424T121705
LOCATION:
SUMMARY:Read Thru the Bible in a Year
URL;VALUE=URI:https://www.randolphfirstreformed.com/events/read-thru-the-bi
 ble-in-a-year/2026-10-13
ATTACH;FILENAME=FzpWW.jpg;FMTTYPE=image/jpeg:https://dq5pwpg1q8ru0.cloudfro
 nt.net/2026/01/16/18/49/24/96fdf388-0f1d-4b97-b3f0-c9531f2dc602/FzpWW.jpg
END:VEVENT
END:VCALENDAR
