BEGIN:VCALENDAR
VERSION:2.0
PRODID:icalendar-ruby
CALSCALE:GREGORIAN
METHOD:PUBLISH
BEGIN:VEVENT
DTSTAMP:20260421T234044Z
UID:33-568635@randolphfirstreformed.com
DTSTART:20260923T223000Z
DTEND:20260923T233000Z
CLASS:PUBLIC
CREATED:20260421T165301
DESCRIPTION:
LAST-MODIFIED:20260421T165301
LOCATION:Downstairs classroom
SUMMARY:Galatians Bible Study
URL;VALUE=URI:https://www.randolphfirstreformed.com/events/galatians-bible-
 study/2026-09-23
ATTACH;FILENAME=pic-1.png;FMTTYPE=image/png:https://dq5pwpg1q8ru0.cloudfron
 t.net/2026/01/16/18/43/42/2f158741-e3ca-4f56-9111-e5cc52ae12b9/pic-1.png
END:VEVENT
END:VCALENDAR
